BEGIN:VCALENDAR
VERSION:2.0
PRODID:-//hacksw/handcal//NONSGML v1.0//EN
BEGIN:VEVENT
SUMMARY:zone cadets
UID:54d5c03c-daa6-42e7-b58e-eb3bdb83d519
DTSTART:20260328T230000Z
DTEND:20260329T230000Z
LOCATION:Localisation   
CATEGORIES:Sportif
STATUS:
URL;VALUE=URI:https://judoclubfloracois.sportsregions.fr/evenements/2026/03/29/zone-cadets-2438054
END:VEVENT
END:VCALENDAR
